BEGIN:VCALENDAR
VERSION:2.0
PRODID:-//Tukios.com/
BEGIN:VEVENT
UID:b52761e5-5624-4d6d-912a-f75fa802efc5@www.lemonsfunerals.com
DTSTAMP:20260422T011042Z
DTSTART:20260427T190000Z
DTEND:20260427T200000Z
SUMMARY:Graveside Service
DESCRIPTION:
URL:https://www.lemonsfunerals.com/obituaries/leonardo-martinez-amaya
LOCATION:Plainview Memorial Park 100 Joliet Street  Plainview TX 79072
GEO:34.1777719;-101.7164372
END:VEVENT
END:VCALENDAR